BEGIN:VCALENDAR
VERSION:2.0
PRODID:-//Allgemeiner Schützenverein 1886 e.V. Willich - ECPv6.15.20//NONSGML v1.0//EN
CALSCALE:GREGORIAN
METHOD:PUBLISH
X-ORIGINAL-URL:https://asv-willich.de
X-WR-CALDESC:Veranstaltungen für Allgemeiner Schützenverein 1886 e.V. Willich
REFRESH-INTERVAL;VALUE=DURATION:PT1H
X-Robots-Tag:noindex
X-PUBLISHED-TTL:PT1H
BEGIN:VTIMEZONE
TZID:UTC
BEGIN:STANDARD
TZOFFSETFROM:+0000
TZOFFSETTO:+0000
TZNAME:UTC
DTSTART:20220101T000000
END:STANDARD
END:VTIMEZONE
BEGIN:VEVENT
DTSTART;TZID=UTC:20230711T130000
DTEND;TZID=UTC:20230711T170000
DTSTAMP:20260420T184849
CREATED:20230711T072932Z
LAST-MODIFIED:20230711T073123Z
UID:8197-1689080400-1689094800@asv-willich.de
SUMMARY:Familientag
DESCRIPTION:
URL:https://asv-willich.de/event/familientag/
LOCATION:Schützenplatz Willich\, Schützenplatz\, Willich\, 47877
CATEGORIES:Veranstaltungen
END:VEVENT
END:VCALENDAR