BEGIN:VCALENDAR
VERSION:2.0
PRODID:-//Allgemeiner Schützenverein 1886 e.V. Willich - ECPv6.15.20//NONSGML v1.0//EN
CALSCALE:GREGORIAN
METHOD:PUBLISH
X-ORIGINAL-URL:https://asv-willich.de
X-WR-CALDESC:Veranstaltungen für Allgemeiner Schützenverein 1886 e.V. Willich
REFRESH-INTERVAL;VALUE=DURATION:PT1H
X-Robots-Tag:noindex
X-PUBLISHED-TTL:PT1H
BEGIN:VTIMEZONE
TZID:UTC
BEGIN:STANDARD
TZOFFSETFROM:+0000
TZOFFSETTO:+0000
TZNAME:UTC
DTSTART:20180101T000000
END:STANDARD
END:VTIMEZONE
BEGIN:VEVENT
DTSTART;TZID=UTC:20190707T190000
DTEND;TZID=UTC:20190707T230000
DTSTAMP:20260425T152509
CREATED:20190210T094025Z
LAST-MODIFIED:20190210T094025Z
UID:3444-1562526000-1562540400@asv-willich.de
SUMMARY:Schützenfest Neersen
DESCRIPTION:
URL:https://asv-willich.de/event/schuetzenfest-neersen/
LOCATION:Neersen
CATEGORIES:Veranstaltungen
END:VEVENT
END:VCALENDAR