BEGIN:VCALENDAR
VERSION:2.0
PRODID:-//Allgemeiner Schützenverein 1886 e.V. Willich - ECPv6.15.20//NONSGML v1.0//EN
CALSCALE:GREGORIAN
METHOD:PUBLISH
X-WR-CALNAME:Allgemeiner Schützenverein 1886 e.V. Willich
X-ORIGINAL-URL:https://asv-willich.de
X-WR-CALDESC:Veranstaltungen für Allgemeiner Schützenverein 1886 e.V. Willich
REFRESH-INTERVAL;VALUE=DURATION:PT1H
X-Robots-Tag:noindex
X-PUBLISHED-TTL:PT1H
BEGIN:VTIMEZONE
TZID:UTC
BEGIN:STANDARD
TZOFFSETFROM:+0000
TZOFFSETTO:+0000
TZNAME:UTC
DTSTART:20180101T000000
END:STANDARD
END:VTIMEZONE
BEGIN:VEVENT
DTSTART;TZID=UTC:20190526T190000
DTEND;TZID=UTC:20190526T230000
DTSTAMP:20260425T163800
CREATED:20190210T093649Z
LAST-MODIFIED:20190210T094240Z
UID:3438-1558897200-1558911600@asv-willich.de
SUMMARY:Schützenfest Klein-Jerusalem
DESCRIPTION:
URL:https://asv-willich.de/event/schuetzenfest-klein-jerusalem/
LOCATION:Neersen
CATEGORIES:Veranstaltungen
END:VEVENT
END:VCALENDAR