BEGIN:VCALENDAR
VERSION:2.0
PRODID:-//Allgemeiner Schützenverein 1886 e.V. Willich - ECPv6.15.20//NONSGML v1.0//EN
CALSCALE:GREGORIAN
METHOD:PUBLISH
X-ORIGINAL-URL:https://asv-willich.de
X-WR-CALDESC:Veranstaltungen für Allgemeiner Schützenverein 1886 e.V. Willich
REFRESH-INTERVAL;VALUE=DURATION:PT1H
X-Robots-Tag:noindex
X-PUBLISHED-TTL:PT1H
BEGIN:VTIMEZONE
TZID:UTC
BEGIN:STANDARD
TZOFFSETFROM:+0000
TZOFFSETTO:+0000
TZNAME:UTC
DTSTART:20180101T000000
END:STANDARD
END:VTIMEZONE
BEGIN:VEVENT
DTSTART;TZID=UTC:20190217T110000
DTEND;TZID=UTC:20190217T110000
DTSTAMP:20260425T211044
CREATED:20160616T073941Z
LAST-MODIFIED:20190112T160739Z
UID:1185-1550401200-1550401200@asv-willich.de
SUMMARY:Zugführerversammlung
DESCRIPTION:
URL:https://asv-willich.de/event/zugfuehrerversammlung/
LOCATION:Gaststätte Krücken\, Peterstraße 56\,\, Willich\, 47877\, Deutschland
CATEGORIES:Veranstaltungen
END:VEVENT
END:VCALENDAR